BEGIN:VCALENDAR
VERSION:2.0
PRODID:-//Carteret Writers - ECPv6.14.2//NONSGML v1.0//EN
CALSCALE:GREGORIAN
METHOD:PUBLISH
X-ORIGINAL-URL:https://carteretwriters.org
X-WR-CALDESC:Events for Carteret Writers
REFRESH-INTERVAL;VALUE=DURATION:PT1H
X-Robots-Tag:noindex
X-PUBLISHED-TTL:PT1H
BEGIN:VTIMEZONE
TZID:America/New_York
BEGIN:DAYLIGHT
TZOFFSETFROM:-0500
TZOFFSETTO:-0400
TZNAME:EDT
DTSTART:20260308T070000
END:DAYLIGHT
BEGIN:STANDARD
TZOFFSETFROM:-0400
TZOFFSETTO:-0500
TZNAME:EST
DTSTART:20261101T060000
END:STANDARD
END:VTIMEZONE
BEGIN:VEVENT
DTSTART;TZID=America/New_York:20260121T160000
DTEND;TZID=America/New_York:20260121T180000
DTSTAMP:20260420T195529
CREATED:20260116T172850Z
LAST-MODIFIED:20260116T173631Z
UID:6559-1769011200-1769018400@carteretwriters.org
SUMMARY:January Member Meetup
DESCRIPTION:We will meet at the Big Rock Room in the Arts Council Building on the 21st at 4:00 p.m. Bring your writing supplies as we will tour the latest offerings in the council space and exercise our ekphrastic poetry muscles in preparation for Art From the Heart. An open mic time will be offered.
URL:https://carteretwriters.org/event/january-member-meetup/
LOCATION:Arts Council of Carteret County\, 1702 Arendell St\, Morehead City\, NC\, 28557\, United States
CATEGORIES:Monthly Member Meetup
ATTACH;FMTTYPE=image/jpeg:https://carteretwriters.org/wp-content/uploads/2026/01/Copy-of-Copy-of-Copy-of-Copy-of-Copy-of-Blue-Modern-Summer-Sale-Instagram-Post-2.jpg
END:VEVENT
END:VCALENDAR