BEGIN:VCALENDAR
VERSION:2.0
PRODID:-//Carteret Writers - ECPv6.14.2//NONSGML v1.0//EN
CALSCALE:GREGORIAN
METHOD:PUBLISH
X-ORIGINAL-URL:https://carteretwriters.org
X-WR-CALDESC:Events for Carteret Writers
REFRESH-INTERVAL;VALUE=DURATION:PT1H
X-Robots-Tag:noindex
X-PUBLISHED-TTL:PT1H
BEGIN:VTIMEZONE
TZID:America/New_York
BEGIN:DAYLIGHT
TZOFFSETFROM:-0500
TZOFFSETTO:-0400
TZNAME:EDT
DTSTART:20250309T070000
END:DAYLIGHT
BEGIN:STANDARD
TZOFFSETFROM:-0400
TZOFFSETTO:-0500
TZNAME:EST
DTSTART:20251102T060000
END:STANDARD
END:VTIMEZONE
BEGIN:VEVENT
DTSTART;TZID=America/New_York:20250520T080000
DTEND;TZID=America/New_York:20250820T170000
DTSTAMP:20260421T202513
CREATED:20250526T213426Z
LAST-MODIFIED:20250526T213427Z
UID:6368-1747728000-1755709200@carteretwriters.org
SUMMARY:Summer Break 2025
DESCRIPTION:See you in August – stay tuned for announcements about the Summer Doldrums Challenge!
URL:https://carteretwriters.org/event/summer-break-2025/
LOCATION:NC
ATTACH;FMTTYPE=image/jpeg:https://carteretwriters.org/wp-content/uploads/2025/05/CW-Summer.jpg
END:VEVENT
BEGIN:VEVENT
DTSTART;TZID=America/New_York:20250521T160000
DTEND;TZID=America/New_York:20250521T180000
DTSTAMP:20260421T202513
CREATED:20250108T023302Z
LAST-MODIFIED:20250503T201426Z
UID:6255-1747843200-1747850400@carteretwriters.org
SUMMARY:May 2025 CW Meet-Up
DESCRIPTION:Join us for our last meet-up until September\, as we celebrate writing together at Reed’s Coffee in downtown Morehead City. What’s gone well for you in your writing world this year? What will you be working on over the summer? Let’s share our successes and goals\, maybe have a glass of wine\, and bring something short to read (5min or less) as time allows.
URL:https://carteretwriters.org/event/may-2025-cw-meet-up/
LOCATION:Reed’s Coffee + Art + Frames\, 812 Evans St\, Morehead City\, NC\, 28557\, United States
CATEGORIES:Monthly Member Meetup
ATTACH;FMTTYPE=image/jpeg:https://carteretwriters.org/wp-content/uploads/2025/01/Copy-of-Copy-of-Copy-of-Copy-of-Copy-of-Copy-of-Copy-of-Blue-Modern-Summer-Sale-Instagram-Post.jpg
END:VEVENT
END:VCALENDAR