BEGIN:VCALENDAR
VERSION:2.0
PRODID:-//Carteret Writers - ECPv6.14.2//NONSGML v1.0//EN
CALSCALE:GREGORIAN
METHOD:PUBLISH
X-ORIGINAL-URL:https://carteretwriters.org
X-WR-CALDESC:Events for Carteret Writers
REFRESH-INTERVAL;VALUE=DURATION:PT1H
X-Robots-Tag:noindex
X-PUBLISHED-TTL:PT1H
BEGIN:VTIMEZONE
TZID:America/New_York
BEGIN:DAYLIGHT
TZOFFSETFROM:-0500
TZOFFSETTO:-0400
TZNAME:EDT
DTSTART:20250309T070000
END:DAYLIGHT
BEGIN:STANDARD
TZOFFSETFROM:-0400
TZOFFSETTO:-0500
TZNAME:EST
DTSTART:20251102T060000
END:STANDARD
END:VTIMEZONE
BEGIN:VEVENT
DTSTART;TZID=America/New_York:20250416T160000
DTEND;TZID=America/New_York:20250416T180000
DTSTAMP:20260422T125118
CREATED:20250108T022402Z
LAST-MODIFIED:20250330T171812Z
UID:6252-1744819200-1744826400@carteretwriters.org
SUMMARY:April 2025 CW Meet-Up
DESCRIPTION:Our April Meet-Up features both a poetry open mic and a publishing presenter. All are welcome. \n\n\n\nWe will begin with a poetry open mic in honor of National Poetry Month. Please bring five minutes or so of poetry to read. Not a poet? Bring what you have\, and if we run out of poems\, who knows what we will hear ; ) \n\n\n\nThen\, Michelle Garren-Flye of Next Chapter Books will speak about publishing programs and platforms. Michelle has published widely – novels\, books of poetry\, a blog\, even a literary magazine. Her experience is vast. \n\n\n\nWe will meet at Carteret Community College in Room 3215 in the Bryant Student Center. See you there.
URL:https://carteretwriters.org/event/april-2025-cw-meet-up/
LOCATION:Carteret Community College Student Center\, 3505 Arendell St\, Morehead City\, NC\, 28557\, United States
CATEGORIES:Monthly Member Meetup
ATTACH;FMTTYPE=image/jpeg:https://carteretwriters.org/wp-content/uploads/2025/01/Copy-of-Copy-of-Copy-of-Copy-of-Copy-of-Copy-of-Blue-Modern-Summer-Sale-Instagram-Post.jpg
END:VEVENT
END:VCALENDAR